BEGIN:VCALENDAR
PRODID:-//eluceo/ical//2.0/EN
VERSION:2.0
CALSCALE:GREGORIAN
BEGIN:VEVENT
UID:48dd227fcb736e075931b9dcdbf818a5
DTSTAMP:20260422T102007Z
SUMMARY:NIED Symposium: Family Based Treatment for Young Adults
DESCRIPTION:UJA Federation of Greater Toronto\nJewish Toronto Calendar\nhtt
 ps://jewishtoronto.com/calendar/nied-symposium-family-based-treatment-for-
 young-adults-1430521305\n\nThe National Initiative for Eating Disorders is
  hosting its 43rd free symposium. All are welcome - no registration requir
 ed!
DTSTART;TZID=America/Toronto:20150511T190000
DTEND;TZID=America/Toronto:20150511T210000
END:VEVENT
END:VCALENDAR
