BEGIN:VCALENDAR
PRODID:-//eluceo/ical//2.0/EN
VERSION:2.0
CALSCALE:GREGORIAN
BEGIN:VEVENT
UID:579ee604d70e8d2b9da169d52201077c
DTSTAMP:20260419T124800Z
SUMMARY:NextJEN Dragon's Den for Social Action and Award Ceremony
DESCRIPTION:UJA Federation of Greater Toronto\nJewish Toronto Calendar\nhtt
 ps://jewishtoronto.com/calendar/nextjen-dragons-den-for-social-action-and-
 award-ceremony-1487607798\n\nNextJEN's annual dragon's den for social acti
 on
DTSTART;TZID=America/Toronto:20170509T190000
DTEND;TZID=America/Toronto:20170509T220000
END:VEVENT
END:VCALENDAR
