BEGIN:VCALENDAR
PRODID:-//eluceo/ical//2.0/EN
VERSION:2.0
CALSCALE:GREGORIAN
BEGIN:VEVENT
UID:1db74b89d2f6e5df4dd573520588c1e6
DTSTAMP:20260419T152346Z
SUMMARY:New Series:  The Caribbean Jewish Experience - Congregation Daarcha
 i Noam
DESCRIPTION:UJA Federation of Greater Toronto\nJewish Toronto Calendar\nhtt
 ps://jewishtoronto.com/calendar/new-series-the-caribbean-jewish-experience
 \n\nTHE JEWISH DIVERSITY COMMITTEE PRESENTS A NEW SERIES THE CARIBBEAN JEW
 ISH EXPERIENCE\nPART I: JAMAICAN AND JEWISH\nHEAR WILFRED (Willy) LINDO\n\
 nAdmission: $5 for members\, $10 for non members\nRefreshments will be ava
 ilable\n\nFrom childhood\, to bar mitzvah and young adult\, Willy Lindo wa
 s formed in Jamaica. He immigrated to Canada in 1966.   Since 2012 he ha
 s been fundraising for the restoration and maintenance of the Shaare Shalo
 m United Congregation of Israelites\, his first shul in downt...
DTSTART;TZID=America/Toronto:20151018T193000
DTEND;TZID=America/Toronto:20151018T213000
END:VEVENT
END:VCALENDAR
