BEGIN:VCALENDAR
PRODID:-//eluceo/ical//2.0/EN
VERSION:2.0
CALSCALE:GREGORIAN
BEGIN:VEVENT
UID:4548bd10b4cc67a440b6eb3bc8d937bf
DTSTAMP:20260422T113119Z
SUMMARY:New Israel Fund of Canada 2015 Symposium
DESCRIPTION:UJA Federation of Greater Toronto\nJewish Toronto Calendar\nhtt
 ps://jewishtoronto.com/calendar/new-israel-fund-of-canada-2015-symposium-1
 430914454\n\nJoin NIFC for our annual symposium. Guests TBA.
DTSTART;TZID=America/Toronto:20150909T180000
DTEND;TZID=America/Toronto:20150909T210000
END:VEVENT
END:VCALENDAR
