BEGIN:VCALENDAR
PRODID:-//eluceo/ical//2.0/EN
VERSION:2.0
CALSCALE:GREGORIAN
BEGIN:VEVENT
UID:5edc636cae95264fd3220f9f2818ba01
DTSTAMP:20260420T134111Z
SUMMARY: Neuberger HEC- Raoul Wallenberg Day 2016 Movie screening 
DESCRIPTION:UJA Federation of Greater Toronto\nJewish Toronto Calendar\nhtt
 ps://jewishtoronto.com/calendar/neuberger-hec--raoul-wallenberg-day-2016-m
 ovie-screening-1452110534\n\nDocumentary\, 1 hour 32 minutes\, 2014\n\nMY 
 ITALIAN SECRET tells the story of sports idol Gino Bartali and other coura
 geous Italians who worked to rescue Jews\, partisans and refugees from Naz
 i-occupied Italy. Gino Bartali is a sports legend\; but his most daring tr
 iumph came when he risked his life to save Jews threatened by Nazi extermi
 nation. Bartali\, like most of the rescuers\, never sought recognition or 
 reward. Few of those he helped knew his name or what role he played in the
 ir...
DTSTART;TZID=America/Toronto:20160117T140000
DTEND;TZID=America/Toronto:20160117T210000
END:VEVENT
END:VCALENDAR
