BEGIN:VCALENDAR
PRODID:-//eluceo/ical//2.0/EN
VERSION:2.0
CALSCALE:GREGORIAN
BEGIN:VEVENT
UID:228a46bd4717b918e9f36d866b07e73b
DTSTAMP:20260422T192424Z
SUMMARY:Netivot HaTorah's Open House - North Campus
DESCRIPTION:UJA Federation of Greater Toronto\nJewish Toronto Calendar\nhtt
 ps://jewishtoronto.com/calendar/netivot-hatorahs-open-house-north-campus\n
 \nNetivot HaTorah's Open House - North Campus
DTSTART;TZID=America/Toronto:20141119T193000
DTEND;TZID=America/Toronto:20141119T213000
END:VEVENT
END:VCALENDAR
