BEGIN:VCALENDAR
PRODID:-//eluceo/ical//2.0/EN
VERSION:2.0
CALSCALE:GREGORIAN
BEGIN:VEVENT
UID:4e6c3980d9fa83994071d94eebe6df63
DTSTAMP:20260421T112431Z
SUMMARY:Netivot HaTorah Open House - SOUTH CAMPUS
DESCRIPTION:UJA Federation of Greater Toronto\nJewish Toronto Calendar\nhtt
 ps://jewishtoronto.com/calendar/netivot-hatorah-open-house---south-campus-
 1717447011\n\nNetivot HaTorah Day School - SOUTH Campus Open House - Join 
 us!\n\nTo RSVP or arrange a personal visit please contact\nMashie Feintuch
 \, Director of Admissions\n905-771-1234 ext.234 or admissions@netivot.com
DTSTART;TZID=America/Toronto:20241111T193000
DTEND;TZID=America/Toronto:20241111T203000
END:VEVENT
END:VCALENDAR
