BEGIN:VCALENDAR
PRODID:-//eluceo/ical//2.0/EN
VERSION:2.0
CALSCALE:GREGORIAN
BEGIN:VEVENT
UID:987566054e35b93b0aeeff799534bda3
DTSTAMP:20260420T210442Z
SUMMARY:Netivot HaTorah Open House
DESCRIPTION:UJA Federation of Greater Toronto\nJewish Toronto Calendar\nhtt
 ps://jewishtoronto.com/calendar/netivot-hatorah-open-house\n\nNetivot HaTo
 rah Open House
DTSTART;TZID=America/Toronto:20141112T193000
DTEND;TZID=America/Toronto:20141112T210000
END:VEVENT
END:VCALENDAR
