BEGIN:VCALENDAR
PRODID:-//eluceo/ical//2.0/EN
VERSION:2.0
CALSCALE:GREGORIAN
BEGIN:VEVENT
UID:1dac7fe3343893ce776933c2020dfc6d
DTSTAMP:20260420T084901Z
SUMMARY:Netivot HaTorah Day School\, South Campus Open House
DESCRIPTION:UJA Federation of Greater Toronto\nJewish Toronto Calendar\nhtt
 ps://jewishtoronto.com/calendar/netivot-hatorah-day-school-south-campus-op
 en-house-1493738098\n\nNetivot HaTorah Day School\, South Campus Open Hous
 e\n\n 
DTSTART;TZID=America/Toronto:20171115T190000
DTEND;TZID=America/Toronto:20171115T210000
END:VEVENT
END:VCALENDAR
