BEGIN:VCALENDAR
PRODID:-//eluceo/ical//2.0/EN
VERSION:2.0
CALSCALE:GREGORIAN
BEGIN:VEVENT
UID:baba0a345caa45b1b36436045cb47c5a
DTSTAMP:20260420T070051Z
SUMMARY:Netivot HaTorah Day School\, South Campus Open House
DESCRIPTION:UJA Federation of Greater Toronto\nJewish Toronto Calendar\nhtt
 ps://jewishtoronto.com/calendar/netivot-hatorah-day-school-south-campus-op
 en-house\n\nPlease contact the school for more details.
DTSTART;TZID=America/Toronto:20151118T193000
DTEND;TZID=America/Toronto:20151118T210000
END:VEVENT
END:VCALENDAR
