BEGIN:VCALENDAR
PRODID:-//eluceo/ical//2.0/EN
VERSION:2.0
CALSCALE:GREGORIAN
BEGIN:VEVENT
UID:c051abe237b1a719f953acc4fc82b477
DTSTAMP:20260425T104340Z
SUMMARY:Netivot HaTorah Day School Gala Dinner
DESCRIPTION:UJA Federation of Greater Toronto\nJewish Toronto Calendar\nhtt
 ps://jewishtoronto.com/calendar/netivot-hatorah-day-school-gala-dinner-145
 6782349\n\nNetivot HaTorah Day School Gala Dinner\n\nShaindy Cohen Goldste
 in\nEvent Architect\nshaindy@rogers.com\n416 879 2065\n\nwww.netivot.com
DTSTART;TZID=America/Toronto:20160907T200000
DTEND;TZID=America/Toronto:20160907T220000
END:VEVENT
END:VCALENDAR
