BEGIN:VCALENDAR
PRODID:-//eluceo/ical//2.0/EN
VERSION:2.0
CALSCALE:GREGORIAN
BEGIN:VEVENT
UID:50b886c40468797bad3307eaab9ea83d
DTSTAMP:20260422T025134Z
SUMMARY:Neshama Hospice Parlour Meeting
DESCRIPTION:UJA Federation of Greater Toronto\nJewish Toronto Calendar\nhtt
 ps://jewishtoronto.com/calendar/neshama-hospice-parlour-meeting-1712179811
 \n\nSupport the build of a 12 bed residential hospice founded on Jewish va
 lues.
DTSTART;TZID=America/Toronto:20240618T190000
DTEND;TZID=America/Toronto:20240618T210000
END:VEVENT
END:VCALENDAR
