BEGIN:VCALENDAR
PRODID:-//eluceo/ical//2.0/EN
VERSION:2.0
CALSCALE:GREGORIAN
BEGIN:VEVENT
UID:5cb4d5dc89dd082ea4415d009a9b7546
DTSTAMP:20260424T002105Z
SUMMARY:Neshama  Hospice Fundraiser
DESCRIPTION:UJA Federation of Greater Toronto\nJewish Toronto Calendar\nhtt
 ps://jewishtoronto.com/calendar/neshama--hospice-fundraiser-1742419448\n\n
 We have begun construction on a 12-bed hospice residence - founded on Jewi
 sh values- in the heart of North York\, where patients live out their fina
 l days with loved ones within a community of compassion\, in a home-like e
 nvironment.\nWe need your support.
DTSTART;TZID=America/Toronto:20250512T190000
DTEND;TZID=America/Toronto:20250512T210000
END:VEVENT
END:VCALENDAR
