BEGIN:VCALENDAR
PRODID:-//eluceo/ical//2.0/EN
VERSION:2.0
CALSCALE:GREGORIAN
BEGIN:VEVENT
UID:b427ca25560b9dc9c1efcb782f6e91c8
DTSTAMP:20260421T090814Z
SUMMARY:Neil Lazarus
DESCRIPTION:UJA Federation of Greater Toronto\nJewish Toronto Calendar\nhtt
 ps://jewishtoronto.com/calendar/neil-lazarus-1543959449\n\nInternationally
  acclaimed expert in the fields of Middle East politics and public diploma
 cy.
DTSTART;TZID=America/Toronto:20190404T193000
DTEND;TZID=America/Toronto:20190404T213000
END:VEVENT
END:VCALENDAR
