BEGIN:VCALENDAR
PRODID:-//eluceo/ical//2.0/EN
VERSION:2.0
CALSCALE:GREGORIAN
BEGIN:VEVENT
UID:59cc7a9365df8cc3f8256b3bb93bddec
DTSTAMP:20260424T103434Z
SUMMARY:NefeshB'Nefesh VIRTUAL JNF Series: Day in the Life of Olim and Covi
 d-19
DESCRIPTION:UJA Federation of Greater Toronto\nJewish Toronto Calendar\nhtt
 ps://jewishtoronto.com/calendar/nefeshbnefesh-virtual-jnf-series-day-in-th
 e-life-of-olim-and-covid-19-1589989936\n\nWednesday\, May 20:\n-- Part 3 o
 f the JNF Series: A Day in the Life of Olim: Hear from the Nefesh B’Nefe
 sh Olim on the front lines of Covid-19 in Israel @ 12pm ET\n
DTSTART;TZID=America/Toronto:20200520T120000
DTEND;TZID=America/Toronto:20200520T130000
END:VEVENT
END:VCALENDAR
