BEGIN:VCALENDAR
PRODID:-//eluceo/ical//2.0/EN
VERSION:2.0
CALSCALE:GREGORIAN
BEGIN:VEVENT
UID:e75eeb6ec189c02bd3d74edcd7183f5c
DTSTAMP:20260424T125422Z
SUMMARY:NefeshB'Nefesh VIRTUAL Aliyah Workshop:  Dollars & Sense for Famili
 es
DESCRIPTION:UJA Federation of Greater Toronto\nJewish Toronto Calendar\nhtt
 ps://jewishtoronto.com/calendar/nefeshbnefesh-virtual-aliyah-workshop--dol
 lars--sense-for-families-1589990335\n\nMonday\, May 25\, Memorial Day:\n--
  Aliyah Dollars and Sense for Retirees and Empty Nesters @ 12pm ET\n-- Ali
 yah Dollars and Sense for Families @ 2pm ET\n\n
DTSTART;TZID=America/Toronto:20200525T140000
DTEND;TZID=America/Toronto:20200525T150000
END:VEVENT
END:VCALENDAR
