BEGIN:VCALENDAR
PRODID:-//eluceo/ical//2.0/EN
VERSION:2.0
CALSCALE:GREGORIAN
BEGIN:VEVENT
UID:0c4216e1ef3e5e6854ed782364279255
DTSTAMP:20260422T074318Z
SUMMARY:NefeshB'Nefesh  Webinar: High School in Israel & Acclimating Teens
DESCRIPTION:UJA Federation of Greater Toronto\nJewish Toronto Calendar\nhtt
 ps://jewishtoronto.com/calendar/nefeshbnefesh--webinar-high-school-in-isra
 el--acclimating-teens-1590518901\n\nMaking Aliyah with a teen? Confused ab
 out high schools in Israel\; how to choose\; how to apply\; where to go? H
 ow do I help my teen acclimate and integrate? This webinar is for you! \n\
 n
DTSTART;TZID=America/Toronto:20200527T130000
DTEND;TZID=America/Toronto:20200527T140000
END:VEVENT
END:VCALENDAR
