BEGIN:VCALENDAR
PRODID:-//eluceo/ical//2.0/EN
VERSION:2.0
CALSCALE:GREGORIAN
BEGIN:VEVENT
UID:f0283a8486ba5dea26c9126d8e304351
DTSTAMP:20260422T050536Z
SUMMARY:Nefesh B'Nefesh Webinar: Medical Licensing for Paramedical Professi
 onals
DESCRIPTION:UJA Federation of Greater Toronto\nJewish Toronto Calendar\nhtt
 ps://jewishtoronto.com/calendar/nefesh-bnefesh-webinar-medical-licensing-f
 or-paramedical-professionals-1591980864\n\nJoin us to learn step by step h
 ow to convert your license and seamlessly transition your career to Israel
  with Ronen Fuxman\, Director of Government Advocacy at Nefesh B&#039\;Nef
 esh.\n
DTSTART;TZID=America/Toronto:20200614T130000
DTEND;TZID=America/Toronto:20200614T140000
END:VEVENT
END:VCALENDAR
