BEGIN:VCALENDAR
PRODID:-//eluceo/ical//2.0/EN
VERSION:2.0
CALSCALE:GREGORIAN
BEGIN:VEVENT
UID:0c4c5018bdbcb4a48b7f5eb6e3c62742
DTSTAMP:20260420T034458Z
SUMMARY:Nefesh B'Nefesh Web: Communities: Haifa for Students & YPs
DESCRIPTION:UJA Federation of Greater Toronto\nJewish Toronto Calendar\nhtt
 ps://jewishtoronto.com/calendar/nefesh-bnefesh-web-communities-haifa-for-s
 tudents--yps-1595005824\n\nJoin NBN and representatives from the Olim Depa
 rtment of the City of Haifa to learn the opportunities that a city with tw
 o world class universities\, a thriving hi-tech scene and 13 kilometers of
  beaches offers!\n\n
DTSTART;TZID=America/Toronto:20200726T103000
DTEND;TZID=America/Toronto:20200726T113000
END:VEVENT
END:VCALENDAR
