BEGIN:VCALENDAR
PRODID:-//eluceo/ical//2.0/EN
VERSION:2.0
CALSCALE:GREGORIAN
BEGIN:VEVENT
UID:2dc7e3a73760dbed46ce1385f9bc4586
DTSTAMP:20260420T133039Z
SUMMARY:Nefesh B'Nefesh VIRTUAL Webinar: Tech Opps in Israel
DESCRIPTION:UJA Federation of Greater Toronto\nJewish Toronto Calendar\nhtt
 ps://jewishtoronto.com/calendar/nefesh-bnefesh-virtual-webinar-tech-opps-i
 n-israel-1591980604\n\nJoin us for a webinar of Exploring Opportunities in
  Tech in Israel.\n\n
DTSTART;TZID=America/Toronto:20200614T110000
DTEND;TZID=America/Toronto:20200614T120000
END:VEVENT
END:VCALENDAR
