BEGIN:VCALENDAR
PRODID:-//eluceo/ical//2.0/EN
VERSION:2.0
CALSCALE:GREGORIAN
BEGIN:VEVENT
UID:6be46a6ebaa8dea48a4c48154f04b099
DTSTAMP:20260420T184939Z
SUMMARY:Nefesh B'Nefesh VIRTUAL Webinar: Medical Licensing: Nurses
DESCRIPTION:UJA Federation of Greater Toronto\nJewish Toronto Calendar\nhtt
 ps://jewishtoronto.com/calendar/nefesh-bnefesh-virtual-webinar-medical-lic
 ensing-nurses-1595005935\n\nJoin us to learn step by step how to convert y
 our license and seamlessly transition your career to Israel. \n\nThis webi
 nar is for nurses and nursing students both pre-and post-Aliyah.\n
DTSTART;TZID=America/Toronto:20200809T140000
DTEND;TZID=America/Toronto:20200809T150000
END:VEVENT
END:VCALENDAR
