BEGIN:VCALENDAR
PRODID:-//eluceo/ical//2.0/EN
VERSION:2.0
CALSCALE:GREGORIAN
BEGIN:VEVENT
UID:d2e9adf543e8285e49f82fac8d2a02ef
DTSTAMP:20260421T065832Z
SUMMARY:Nefesh B'Nefesh VIRTUAL Webinar: Get Back to Israel
DESCRIPTION:UJA Federation of Greater Toronto\nJewish Toronto Calendar\nhtt
 ps://jewishtoronto.com/calendar/nefesh-bnefesh-virtual-webinar-get-back-to
 -israel-1591981009\n\nJoin us for a panel discussion on different ways to 
 get back to Israel. We will have representatives from Nefesh B&#039\;Nefes
 h\, Jewish National Fund\, Masa Israel\, Onward Israel\, IDF/Garin Tzabar\
 , Nachshon project and Bar Ilan Experience.\n\n\n
DTSTART;TZID=America/Toronto:20200617T140000
DTEND;TZID=America/Toronto:20200617T150000
END:VEVENT
END:VCALENDAR
