BEGIN:VCALENDAR
PRODID:-//eluceo/ical//2.0/EN
VERSION:2.0
CALSCALE:GREGORIAN
BEGIN:VEVENT
UID:b022270543ff139f5b301e3db3d0db60
DTSTAMP:20260423T004551Z
SUMMARY:Nefesh B'Nefesh VIRTUAL Webinar: Communities in Israel: Shoham
DESCRIPTION:UJA Federation of Greater Toronto\nJewish Toronto Calendar\nhtt
 ps://jewishtoronto.com/calendar/nefesh-bnefesh-virtual-webinar-communities
 -in-israel-shoham-1591981163\n\nThe Mayor\, Eitan Patigro\, town council a
 nd Chief Rabbi David Stav are committed to attracting North American Olim 
 families to help grow the new neighborhood with an attractive package of s
 pecial olim benefits found nowhere else in Israel.\n\nJoin us to learn mor
 e about this dynamic\, growing community and how you can make it your home
  in Israel!To register and see the full calendar visit: www.nbn.org.il/eve
 nts\n\n\n
DTSTART;TZID=America/Toronto:20200621T133000
DTEND;TZID=America/Toronto:20200621T143000
END:VEVENT
END:VCALENDAR
