BEGIN:VCALENDAR
PRODID:-//eluceo/ical//2.0/EN
VERSION:2.0
CALSCALE:GREGORIAN
BEGIN:VEVENT
UID:3a5eed880a304e4dfaa5b93920c36fee
DTSTAMP:20260423T005852Z
SUMMARY:Nefesh B'Nefesh VIRTUAL Webinar: Building a Private Practice for Cl
 inicians
DESCRIPTION:UJA Federation of Greater Toronto\nJewish Toronto Calendar\nhtt
 ps://jewishtoronto.com/calendar/nefesh-bnefesh-virtual-webinar-building-a-
 private-practice-for-clinicians-1595005641\n\n In this webinar we will exp
 lore the world of private practice in Israel with the NBN employment team 
 and successful Oleh clinicians from a range fields.
DTSTART;TZID=America/Toronto:20200719T130000
DTEND;TZID=America/Toronto:20200719T140000
END:VEVENT
END:VCALENDAR
