BEGIN:VCALENDAR
PRODID:-//eluceo/ical//2.0/EN
VERSION:2.0
CALSCALE:GREGORIAN
BEGIN:VEVENT
UID:522245b1cc5a99b8b04e6cb4b0b2561d
DTSTAMP:20260422T111219Z
SUMMARY:Nefesh B'Nefesh VIRTUAL Webinar: ABCs of Packing for Aliyah
DESCRIPTION:UJA Federation of Greater Toronto\nJewish Toronto Calendar\nhtt
 ps://jewishtoronto.com/calendar/nefesh-bnefesh-virtual-webinar-abcs-of-pac
 king-for-aliyah-1590518817\n\nPacking for Aliyah doesn&#039\;t have to be 
 a Balagan.  Presented by Rebekah Saltzman of Balagan Be Gone who has been 
 helping people to declutter and organize for over 20 years!\n
DTSTART;TZID=America/Toronto:20200527T120000
DTEND;TZID=America/Toronto:20200527T130000
END:VEVENT
END:VCALENDAR
