BEGIN:VCALENDAR
PRODID:-//eluceo/ical//2.0/EN
VERSION:2.0
CALSCALE:GREGORIAN
BEGIN:VEVENT
UID:f41eb2e23537bf8b335567266ce72f72
DTSTAMP:20260419T140149Z
SUMMARY:Nefesh B'Nefesh VIRTUAL Aliyah Planning Workshop Sessions Sunday Ma
 y 10th
DESCRIPTION:UJA Federation of Greater Toronto\nJewish Toronto Calendar\nhtt
 ps://jewishtoronto.com/calendar/nefesh-bnefesh-virtual-aliyah-planning-wor
 kshop-sessions-sunday-may-10th-1588950588\n\nNefesh B'Nefesh will be hosti
 ng 2 VIRTUAL Aliyah Planning Workshops Sunday May 10th
DTSTART;TZID=America/Toronto:20200510T120000
DTEND;TZID=America/Toronto:20200510T140000
END:VEVENT
END:VCALENDAR
