BEGIN:VCALENDAR
PRODID:-//eluceo/ical//2.0/EN
VERSION:2.0
CALSCALE:GREGORIAN
BEGIN:VEVENT
UID:4a9291f840e44653f911162f67a076ee
DTSTAMP:20260423T044059Z
SUMMARY:Nefesh B’Nefesh informal Aliyah Info Event Sun. Nov 11\, Toronto\
 , ONT
DESCRIPTION:UJA Federation of Greater Toronto\nJewish Toronto Calendar\nhtt
 ps://jewishtoronto.com/calendar/nefesh-bnefesh-informal-aliyah-info-event-
 sun-nov-11-toronto-ont-1540926622\n\nExplore Aliyah! Join Nefesh B’Nefes
 h for an informal discussion and learn about living in Israel.\nAliyah Ope
 n House: Sunday\, Nov. 11th\, 7PM-9PM @ Prosserman Jewish Community Center
 \, 4588 Bathurst Street\, Toronto\, Ontario\nFor details and to register: 
 WWW.NBN.ORG.IL/EXPLORE
DTSTART;TZID=America/Toronto:20181111T070000
DTEND;TZID=America/Toronto:20181111T090000
END:VEVENT
END:VCALENDAR
