BEGIN:VCALENDAR
PRODID:-//eluceo/ical//2.0/EN
VERSION:2.0
CALSCALE:GREGORIAN
BEGIN:VEVENT
UID:1a878029b19c427c3f93ae0a9252317d
DTSTAMP:20260421T154203Z
SUMMARY:Nefesh  B'Nefesh Webinar: The Last Dance-  talk MJ and Israeli BBal
 l
DESCRIPTION:UJA Federation of Greater Toronto\nJewish Toronto Calendar\nhtt
 ps://jewishtoronto.com/calendar/nefesh--bnefesh-webinar-the-last-dance---t
 alk-mj-and-israeli-bball-1590518973\n\nJoin Nefesh B&#039\;Nefesh\, Tamir 
 &quot\;Jewish Jordan&quot\; Goodman &amp\; Former NBA players for a discus
 sion about basketball\, Israel\, Aliyah and the Last Dance... \n\n
DTSTART;TZID=America/Toronto:20200604T120000
DTEND;TZID=America/Toronto:20200604T130000
END:VEVENT
END:VCALENDAR
