BEGIN:VCALENDAR
PRODID:-//eluceo/ical//2.0/EN
VERSION:2.0
CALSCALE:GREGORIAN
BEGIN:VEVENT
UID:77df983524d88103427bf46f1a0b4dd4
DTSTAMP:20260424T060403Z
SUMMARY:NCSY's Night of Inspiration
DESCRIPTION:UJA Federation of Greater Toronto\nJewish Toronto Calendar\nhtt
 ps://jewishtoronto.com/calendar/ncsys-night-of-inspiration\n\nCelebrating 
 60 years of NCSY. One Night - One Stage - Four Speakers. Kumzitz to follow
  with Shlomo Simcha and Friends! Free Admission. Light refreshments served
 .
DTSTART;TZID=America/Toronto:20140405T213000
DTEND;TZID=America/Toronto:20140405T233000
END:VEVENT
END:VCALENDAR
