BEGIN:VCALENDAR
PRODID:-//eluceo/ical//2.0/EN
VERSION:2.0
CALSCALE:GREGORIAN
BEGIN:VEVENT
UID:ec7f3568f753eb172a48d43d8c52e140
DTSTAMP:20260422T055706Z
SUMMARY:NCSY Night of Inspiration
DESCRIPTION:UJA Federation of Greater Toronto\nJewish Toronto Calendar\nhtt
 ps://jewishtoronto.com/calendar/ncsy-night-of-inspiration\n\nDetails to fo
 llow.
DTSTART;TZID=America/Toronto:20150314T200000
DTEND;TZID=America/Toronto:20150314T220000
END:VEVENT
END:VCALENDAR
