BEGIN:VCALENDAR
PRODID:-//eluceo/ical//2.0/EN
VERSION:2.0
CALSCALE:GREGORIAN
BEGIN:VEVENT
UID:fdc811cfb0eeacb8f0c7028f914d8107
DTSTAMP:20260422T100208Z
SUMMARY:NCSY Concert with Yaakov Shwekey
DESCRIPTION:UJA Federation of Greater Toronto\nJewish Toronto Calendar\nhtt
 ps://jewishtoronto.com/calendar/ncsy-concert-with-yaakov-shwekey-163725219
 7\n\nSt. Lawrence Centre of the Arts\n27 Front St E
DTSTART;TZID=America/Toronto:20211215T180000
DTEND;TZID=America/Toronto:20211215T215500
END:VEVENT
END:VCALENDAR
