BEGIN:VCALENDAR
PRODID:-//eluceo/ical//2.0/EN
VERSION:2.0
CALSCALE:GREGORIAN
BEGIN:VEVENT
UID:1fb273dbc8a11a88d62f8298873e2108
DTSTAMP:20260422T082630Z
SUMMARY:35th NCSY Concert
DESCRIPTION:UJA Federation of Greater Toronto\nJewish Toronto Calendar\nhtt
 ps://jewishtoronto.com/calendar/ncsy-concert-1470335965\n\n35th NCSY Conce
 rt Starring Gad Elbaz
DTSTART;TZID=America/Toronto:20161204T190000
DTEND;TZID=America/Toronto:20161204T220000
END:VEVENT
END:VCALENDAR
