BEGIN:VCALENDAR
PRODID:-//eluceo/ical//2.0/EN
VERSION:2.0
CALSCALE:GREGORIAN
BEGIN:VEVENT
UID:d4e991d9da37503151a432bebd27a02e
DTSTAMP:20260419T204259Z
SUMMARY:NCSY 14th Annual Golf Tournament 
DESCRIPTION:UJA Federation of Greater Toronto\nJewish Toronto Calendar\nhtt
 ps://jewishtoronto.com/calendar/ncsy-34th-annual-concert\n\nDetails to fol
 low
DTSTART;TZID=America/Toronto:20150617T080000
DTEND;TZID=America/Toronto:20150617T190000
END:VEVENT
END:VCALENDAR
