BEGIN:VCALENDAR
PRODID:-//eluceo/ical//2.0/EN
VERSION:2.0
CALSCALE:GREGORIAN
BEGIN:VEVENT
UID:1b6e19e5871187da3cb4efe0ae25715a
DTSTAMP:20260419T154258Z
SUMMARY:NCJWC - Bought & Sold in Toronto: Human Trafficking Event
DESCRIPTION:UJA Federation of Greater Toronto\nJewish Toronto Calendar\nhtt
 ps://jewishtoronto.com/calendar/ncjwc-bought-sold-in-toronto-human-traffic
 king-event\n\nA panel discussion with experts in the filed of human exploi
 tations to bring awareness about this tragedy in our city. \n\nDoors open
  @ 7PM\n\nEveryone Welcome. Free Admission. \n\nA project of National Co
 uncil of Jewish Women of Canada\, Toronto
DTSTART;TZID=America/Toronto:20161102T193000
DTEND;TZID=America/Toronto:20161102T220000
END:VEVENT
END:VCALENDAR
