BEGIN:VCALENDAR
PRODID:-//eluceo/ical//2.0/EN
VERSION:2.0
CALSCALE:GREGORIAN
BEGIN:VEVENT
UID:97e3c6356cabddcc5297728e116e86fb
DTSTAMP:20260425T222656Z
SUMMARY:Navigating Financial Systems workshop
DESCRIPTION:UJA Federation of Greater Toronto\nJewish Toronto Calendar\nhtt
 ps://jewishtoronto.com/calendar/navigating-financial-systems-workshop-1543
 853517\n\nThis free workshop with Ron Malis will help explain navigating f
 inancial systems for people with disabilities and their families\, includ
 ing ODSP\, RRSP\, Henson Trusts and wills.\n\n 
DTSTART;TZID=America/Toronto:20190204T190000
DTEND;TZID=America/Toronto:20190204T210000
END:VEVENT
END:VCALENDAR
