BEGIN:VCALENDAR
PRODID:-//eluceo/ical//2.0/EN
VERSION:2.0
CALSCALE:GREGORIAN
BEGIN:VEVENT
UID:e99f7fafc61cc20de89698d7aee51769
DTSTAMP:20260425T001101Z
SUMMARY:National Holocaust Remembrance Ceremony and Ambassadors of Change
DESCRIPTION:UJA Federation of Greater Toronto\nJewish Toronto Calendar\nhtt
 ps://jewishtoronto.com/calendar/national-holocaust-remembrance-ceremony-an
 d-ambassadors-of-change-1569003889\n\nThe Annual National Holocaust Rememb
 rance Day Ceremony and the Ambassadors of Change Program will be held at t
 he Canadian War Museum in Ottawa. The Ceremony begins at 3:30 pm\;  the Am
 bassadors of Change program begins at noon. There are complimentary buses 
 to and from Toronto and Montreal for the ceremony. Buses are also arranged
  for the students. The program is free of change but registration is requi
 red and seats fill up quickly.
DTSTART;TZID=America/Toronto:20200421T153000
DTEND;TZID=America/Toronto:20200421T173000
END:VEVENT
END:VCALENDAR
