BEGIN:VCALENDAR
PRODID:-//eluceo/ical//2.0/EN
VERSION:2.0
CALSCALE:GREGORIAN
BEGIN:VEVENT
UID:66ce1390628aa1562db6c4d261fb0cb5
DTSTAMP:20260423T212940Z
SUMMARY:National Holocaust Monument Community Consultation
DESCRIPTION:UJA Federation of Greater Toronto\nJewish Toronto Calendar\nhtt
 ps://jewishtoronto.com/calendar/national-holocaust-monument-community-cons
 ultation\n\nMore Information to follow
DTSTART;TZID=America/Toronto:20141116T130000
DTEND;TZID=America/Toronto:20141116T150000
END:VEVENT
END:VCALENDAR
