BEGIN:VCALENDAR
PRODID:-//eluceo/ical//2.0/EN
VERSION:2.0
CALSCALE:GREGORIAN
BEGIN:VEVENT
UID:c058fb02a7f085cfca067cae2a7db8f5
DTSTAMP:20260421T124054Z
SUMMARY:National Film Day@TJFF: 'Barney's Version'
DESCRIPTION:UJA Federation of Greater Toronto\nJewish Toronto Calendar\nhtt
 ps://jewishtoronto.com/calendar/national-film-daytjff-barneys-version-1491
 055132\n\nCELEBRATE CANADIAN NATIONAL FILM DAY WITH TJFF\nJOIN US FOR A FR
 EE SCREENING OF BARNEY’S VERSION\nWITH SPECIAL GUEST: PRODUCER ROBERT LA
 NTOS\n\nFor more Information click here\n\nNo advance ticket required\n\nA
  taste of the upcoming 25th annual Toronto Jewish Film Festival\, where TJ
 FF will honour the work and legacy of Mordecai Richler.\n\nCelebrate Natio
 nal Canadian Film Day with TJFF’s special free screening of Barney’s V
 ersion\, based on the bestselling book by Mordecai Richler\, sta...
DTSTART;TZID=America/Toronto:20170419T204500
DTEND;TZID=America/Toronto:20170419T224500
END:VEVENT
END:VCALENDAR
