BEGIN:VCALENDAR
PRODID:-//eluceo/ical//2.0/EN
VERSION:2.0
CALSCALE:GREGORIAN
BEGIN:VEVENT
UID:a836e6936ea14465a4c8a48600e09b43
DTSTAMP:20260422T210813Z
SUMMARY:National Conference on Holocaust Education
DESCRIPTION:UJA Federation of Greater Toronto\nJewish Toronto Calendar\nhtt
 ps://jewishtoronto.com/calendar/national-conference-on-holocaust-education
 -1605063010\n\nThis virtual program will feature experts speaking about th
 e Holocaust.
DTSTART;TZID=America/Toronto:20210127T180000
DTEND;TZID=America/Toronto:20210127T193000
END:VEVENT
END:VCALENDAR
