BEGIN:VCALENDAR
PRODID:-//eluceo/ical//2.0/EN
VERSION:2.0
CALSCALE:GREGORIAN
BEGIN:VEVENT
UID:e5f74e73aff3c86dbe145e6f673f1536
DTSTAMP:20260425T104638Z
SUMMARY:National Bible Contest
DESCRIPTION:UJA Federation of Greater Toronto\nJewish Toronto Calendar\nhtt
 ps://jewishtoronto.com/calendar/national-bible-contest-1559760050\n\n*exac
 t timing to be confirmed\nThe study of the Tanach increases our student’
 s connection with the Jewish People\, their love of the Land of Israel\, t
 heir love of text\, and their love of Torah. What better way to encourage 
 students to study and learn the Tanach than by involving them in the Bible
  Contest. This annual competition on the Jewish Bible is for middle school
  and high school students.\nThe top scoring students in the Regional compe
 tition continue to the National Competition which i...
DTSTART;TZID=America/Toronto:20200503T150000
DTEND;TZID=America/Toronto:20200505T090000
END:VEVENT
END:VCALENDAR
