BEGIN:VCALENDAR
PRODID:-//eluceo/ical//2.0/EN
VERSION:2.0
CALSCALE:GREGORIAN
BEGIN:VEVENT
UID:051f7665730fbf639ec32ff711661bbc
DTSTAMP:20260422T232225Z
SUMMARY:Naming the Silence with Dr. Miri Bar Halpern
DESCRIPTION:UJA Federation of Greater Toronto\nJewish Toronto Calendar\nhtt
 ps://jewishtoronto.com/calendar/naming-the-silence-with-dr-miri-bar-halper
 n-1755536745\n\nIn partnership with the Jewish Medical Association of Onta
 rio\, we invite you to a powerful and interactive 90-minute session: “Na
 ming the Silence: Traumatic Invalidation\, Jewish Resilience\, and the Pat
 h to Advocacy.”\n\nLed by Dr. Miri Bar-Halpern\, clinical psychologist a
 nd lecturer at Harvard Medical School\, this session will delve into the d
 eep impact of traumatic invalidation experienced by many in our community 
 since October 7.\n\nTogether\, we’ll explore how to understand\, name\,.
 ..
DTSTART;TZID=America/Toronto:20250904T190000
DTEND;TZID=America/Toronto:20250904T210000
END:VEVENT
END:VCALENDAR
