BEGIN:VCALENDAR
PRODID:-//eluceo/ical//2.0/EN
VERSION:2.0
CALSCALE:GREGORIAN
BEGIN:VEVENT
UID:196303fe0c0e748c72db43ffe7d5ef81
DTSTAMP:20260421T141943Z
SUMMARY:Na'amat Canada Toronto's 27th Annual SK Bingo
DESCRIPTION:UJA Federation of Greater Toronto\nJewish Toronto Calendar\nhtt
 ps://jewishtoronto.com/calendar/naamat-canada-torontos-27th-annual-sk-bing
 o-1736454216\n\nNa'amat Canada Toronto's Club Simcha Kadima is holding the
 ir 27th Annual Bingo Night at the Borochov Centre. Great prizes\, draws\, 
 and people. More information and registration details to follow.
DTSTART;TZID=America/Toronto:20250524T190000
DTEND;TZID=America/Toronto:20250524T230000
END:VEVENT
END:VCALENDAR
