BEGIN:VCALENDAR
PRODID:-//eluceo/ical//2.0/EN
VERSION:2.0
CALSCALE:GREGORIAN
BEGIN:VEVENT
UID:dad23956b8e6e726b1fd874e051a9393
DTSTAMP:20260421T181910Z
SUMMARY:Na’amat Canada Toronto's  21st Annual Israel Day Festival
DESCRIPTION:UJA Federation of Greater Toronto\nJewish Toronto Calendar\nhtt
 ps://jewishtoronto.com/calendar/naamat-canada-torontos-21st-annual-israel-
 day-festival\n\nNa’amat Canada Toronto join us at our Annual Israel Day 
 Festival\n\nFree admission\, all are welcome\; bring your kids\, grandpare
 nts\, aunts and uncles!\n\nChildren’s village featuring rides\, jumping 
 castles\, on stage entertainment all day\, vendors\, community organizatio
 ns\, food!\n\nFor Vendor Information contact marlene.rosen@naamat.com: or
  call 416-636-5425\n\nwww.israeldayfestival.com
DTSTART;TZID=America/Toronto:20160605T100000
DTEND;TZID=America/Toronto:20160605T170000
END:VEVENT
END:VCALENDAR
