BEGIN:VCALENDAR
PRODID:-//eluceo/ical//2.0/EN
VERSION:2.0
CALSCALE:GREGORIAN
BEGIN:VEVENT
UID:35c9343abf919821ad8330ee8f863315
DTSTAMP:20260422T104343Z
SUMMARY:Na'amat Canada Toronto: Mending Fences at The Curtain Club
DESCRIPTION:UJA Federation of Greater Toronto\nJewish Toronto Calendar\nhtt
 ps://jewishtoronto.com/calendar/naamat-canada-toronto-mending-fences-at-th
 e-curtain-club-1546890084\n\nNa’amat Canada Toronto’s Clubs Tamar & Av
 iva Presents: Mending Fences at The Curtain Club\n\nMending Fences\, by No
 rm Foster\, is a poignant comedy telling the story of two men who have gro
 wn apart and are too stubborn to give in to the feelings of the heart.\n\n
 Join us on Tuesday\, March 26\, 2019th at 8:00 pm. Doors open at 7:30 pm. 
 There will be open seating.\n\nTickets: $20.00 each. For advance tickets\,
  visit www.naamat.com/toronto or email toronto.info@naamat.com. For additi
 onal info ple...
DTSTART;TZID=America/Toronto:20190326T200000
DTEND;TZID=America/Toronto:20190326T220000
END:VEVENT
END:VCALENDAR
