BEGIN:VCALENDAR
PRODID:-//eluceo/ical//2.0/EN
VERSION:2.0
CALSCALE:GREGORIAN
BEGIN:VEVENT
UID:8e03cc8b1f9df1d2bcc5e924ddf83f45
DTSTAMP:20260419T154218Z
SUMMARY:Na'amat Canada Toronto - Sharon Cole Memorial Lecture
DESCRIPTION:UJA Federation of Greater Toronto\nJewish Toronto Calendar\nhtt
 ps://jewishtoronto.com/calendar/naamat-canada-toronto---sharon-cole-memori
 al-lecture-1580242279\n\nGuest Speaker: JENNIFER ROBSON\n2019 WINNER of th
 e Canadian Jewish Literacy Award for Fiction\n\nJENNIFER ROBSON is the Int
 ernationally Bestselling author of Goodnight From London and\nThe Gown - a
  novel of the Royal Wedding\n\nBooks will be available\nRefreshments will 
 be served
DTSTART;TZID=America/Toronto:20200511T200000
DTEND;TZID=America/Toronto:20200511T213000
END:VEVENT
END:VCALENDAR
