BEGIN:VCALENDAR
PRODID:-//eluceo/ical//2.0/EN
VERSION:2.0
CALSCALE:GREGORIAN
BEGIN:VEVENT
UID:7a57d8ad08c7595f46a37ba527864b91
DTSTAMP:20260422T172241Z
SUMMARY:Na'amat Canada Toronto - 3rd Annual Maj-A-Thon
DESCRIPTION:UJA Federation of Greater Toronto\nJewish Toronto Calendar\nhtt
 ps://jewishtoronto.com/calendar/naamat-canada-toronto---3rd-annual-maj-a-t
 hon-1536780186\n\nCalling all Maj Players!\n\nJoin Clubs Aviva and Dayan a
 t their 3rd Annual Maj-A-Thon for a fun afternoon of Mahjong. You can brin
 g your own group OR come alone and join a group. Bring your own game.\n\nB
 eginners need not worry: there are TWO teaching tables available (limited 
 to the first 10 registrants).\n\nThere will be refreshments\, door prizes\
 , and swag bags. Don't miss out and reserve your space at the Maj-A-Thon t
 oday!\n\nTickets are $25 per person. To purchase tickets\, please call 416
 ...
DTSTART;TZID=America/Toronto:20181014T130000
DTEND;TZID=America/Toronto:20181014T160000
END:VEVENT
END:VCALENDAR
