BEGIN:VCALENDAR
PRODID:-//eluceo/ical//2.0/EN
VERSION:2.0
CALSCALE:GREGORIAN
BEGIN:VEVENT
UID:971d165737c9f80251b9cc37ff93e33c
DTSTAMP:20260424T111802Z
SUMMARY:Na'amat Ccanada and Bernard Betel Centre Present Musicale
DESCRIPTION:UJA Federation of Greater Toronto\nJewish Toronto Calendar\nhtt
 ps://jewishtoronto.com/calendar/naamat-canada-and-bernard-betel-centre-pre
 sent-musicale\n\nPerformances on piano\, violin accompanied by vocalists. 
 $18.00. For tickets call 416.636.5425 or online. Refreshments served durin
 g intermission
DTSTART;TZID=America/Toronto:20140330T133000
DTEND;TZID=America/Toronto:20140330T150000
END:VEVENT
END:VCALENDAR
