BEGIN:VCALENDAR
PRODID:-//eluceo/ical//2.0/EN
VERSION:2.0
CALSCALE:GREGORIAN
BEGIN:VEVENT
UID:254a4838c18105495aaccc79c27690ab
DTSTAMP:20260423T233248Z
SUMMARY:"My Mother’s Secret” - Guest Speaker  Author Jenny Witterick 
DESCRIPTION:UJA Federation of Greater Toronto\nJewish Toronto Calendar\nhtt
 ps://jewishtoronto.com/calendar/my-mothers-secret-guest-speaker-author-jen
 ny-witterick\n\nAuthor Jenny Witterick will be speaking at Thornhill Lodge
  B’nai Brith about her novel\, which is based on the true story of a bra
 ve Roman Catholic woman\, Francizska Halamajowa and her daughter\, Helena\
 , who sheltered two families and a German soldier in their small farmhouse
  in Sokol\, Poland\, during World War II.\n\nMembers and Guests welcome. 
 \n\nAdmission: $5/couple.   \n\nRSVP by Nov. 12th \n\n 
DTSTART;TZID=America/Toronto:20141115T200000
DTEND;TZID=America/Toronto:20141115T220000
END:VEVENT
END:VCALENDAR
