BEGIN:VCALENDAR
PRODID:-//eluceo/ical//2.0/EN
VERSION:2.0
CALSCALE:GREGORIAN
BEGIN:VEVENT
UID:219fbe77291b86545e7f9241b021092f
DTSTAMP:20260425T144135Z
SUMMARY:Musicale
DESCRIPTION:UJA Federation of Greater Toronto\nJewish Toronto Calendar\nhtt
 ps://jewishtoronto.com/calendar/musicale-1456346028\n\nBetel Centre Member
 s $5 in advance\nAdmission $20\nLight refreshments served furing intermiss
 ion
DTSTART;TZID=America/Toronto:20160327T133000
DTEND;TZID=America/Toronto:20160327T153000
END:VEVENT
END:VCALENDAR
