BEGIN:VCALENDAR
PRODID:-//eluceo/ical//2.0/EN
VERSION:2.0
CALSCALE:GREGORIAN
BEGIN:VEVENT
UID:56eaea09c22011400b6a483f69e3b3d3
DTSTAMP:20260422T072631Z
SUMMARY:Musical Prayer Around the World - 2 Part Series
DESCRIPTION:UJA Federation of Greater Toronto\nJewish Toronto Calendar\nhtt
 ps://jewishtoronto.com/calendar/musical-prayer-around-the-world-2-part-ser
 ies\n\nNo charge for Beth Tzedec members. Others - $25 for both sessions o
 r $15 each.\n \n\nCantor Simon Spiro will give a fascinating demonstratio
 n of musical styles used in synagogue services around the world.\n\nWednes
 day\, October 22 at 7:30 pm - Musical Prayer in Europe\n\nWednesday\, Octo
 ber 29 at 7:30 pm - Musical Prayer in Israel and North America
DTSTART;TZID=America/Toronto:20141022T193000
DTEND;TZID=America/Toronto:20141022T213000
END:VEVENT
END:VCALENDAR
